Package: tomoda Version: 1.19.0 Command: /home/biocbuild/R/R/bin/R CMD build --keep-empty-dirs --no-resave-data tomoda StartedAt: 2025-10-17 05:15:14 -0000 (Fri, 17 Oct 2025) EndedAt: 2025-10-17 05:17:15 -0000 (Fri, 17 Oct 2025) EllapsedTime: 121.1 seconds RetCode: 0 Status: OK PackageFile: tomoda_1.19.0.tar.gz PackageFileSize: 1.509 MiB