Package: tomoda Version: 1.19.0 Command: /home/biocbuild/bbs-3.22-bioc/R/bin/R CMD INSTALL tomoda StartedAt: 2025-10-02 15:34:30 -0400 (Thu, 02 Oct 2025) EndedAt: 2025-10-02 15:34:54 -0400 (Thu, 02 Oct 2025) EllapsedTime: 23.4 seconds RetCode: 0 Status: OK