Package: tomoda Version: 1.19.0 Command: /home/biocbuild/bbs-3.22-bioc/R/bin/R CMD build --keep-empty-dirs --no-resave-data --md5 tomoda StartedAt: 2025-10-02 20:32:32 -0400 (Thu, 02 Oct 2025) EndedAt: 2025-10-02 20:33:56 -0400 (Thu, 02 Oct 2025) EllapsedTime: 84.1 seconds RetCode: 0 Status: OK PackageFile: tomoda_1.19.0.tar.gz PackageFileSize: 2.859 MiB