Package: tomoda Version: 1.19.0 Command: /Library/Frameworks/R.framework/Resources/bin/R CMD build --keep-empty-dirs --no-resave-data tomoda StartedAt: 2025-09-30 19:08:34 -0400 (Tue, 30 Sep 2025) EndedAt: 2025-09-30 19:10:12 -0400 (Tue, 30 Sep 2025) EllapsedTime: 98.3 seconds RetCode: 0 Status: OK PackageFile: tomoda_1.19.0.tar.gz PackageFileSize: 2.905 MiB