Package: tomoda Version: 1.19.0 Command: rm -rf tomoda.buildbin-libdir && mkdir tomoda.buildbin-libdir && /Users/biocbuild/BBS/utils/build-universal.sh tomoda_1.19.0.tar.gz /Library/Frameworks/R.framework/Resources/bin/R tomoda.buildbin-libdir StartedAt: 2025-10-01 02:11:50 -0400 (Wed, 01 Oct 2025) EndedAt: 2025-10-01 02:12:26 -0400 (Wed, 01 Oct 2025) EllapsedTime: 36.0 seconds RetCode: 0 Status: OK PackageFile: tomoda_1.19.0.tgz PackageFileSize: 2.969 MiB