Package: tomoda Version: 1.19.0 Command: /Library/Frameworks/R.framework/Resources/bin/R CMD INSTALL tomoda StartedAt: 2025-10-16 15:31:20 -0400 (Thu, 16 Oct 2025) EndedAt: 2025-10-16 15:31:29 -0400 (Thu, 16 Oct 2025) EllapsedTime: 9.6 seconds RetCode: 0 Status: OK