Package: tomoda Version: 1.19.0 Command: rm -rf tomoda.buildbin-libdir && mkdir tomoda.buildbin-libdir && /Users/biocbuild/BBS/utils/build-universal.sh tomoda_1.19.0.tar.gz /Library/Frameworks/R.framework/Resources/bin/R tomoda.buildbin-libdir StartedAt: 2025-10-17 23:28:46 -0400 (Fri, 17 Oct 2025) EndedAt: 2025-10-17 23:28:57 -0400 (Fri, 17 Oct 2025) EllapsedTime: 11.2 seconds RetCode: 0 Status: OK PackageFile: tomoda_1.19.0.tgz PackageFileSize: 2.965 MiB