Package: tkWidgets Version: 1.87.0 Command: /Library/Frameworks/R.framework/Resources/bin/R CMD INSTALL tkWidgets StartedAt: 2025-10-19 15:02:44 -0400 (Sun, 19 Oct 2025) EndedAt: 2025-10-19 15:02:53 -0400 (Sun, 19 Oct 2025) EllapsedTime: 9.5 seconds RetCode: 0 Status: OK