Package: tkWidgets Version: 1.87.0 Command: /Library/Frameworks/R.framework/Resources/bin/R CMD build --keep-empty-dirs --no-resave-data tkWidgets StartedAt: 2025-10-20 17:57:23 -0400 (Mon, 20 Oct 2025) EndedAt: 2025-10-20 17:57:31 -0400 (Mon, 20 Oct 2025) EllapsedTime: 8.1 seconds RetCode: 0 Status: OK PackageFile: tkWidgets_1.87.0.tar.gz PackageFileSize: 476.5 KiB