Package: timescape Version: 1.33.0 Command: /Library/Frameworks/R.framework/Resources/bin/R CMD build --keep-empty-dirs --no-resave-data timescape StartedAt: 2025-10-15 19:47:26 -0400 (Wed, 15 Oct 2025) EndedAt: 2025-10-15 19:47:36 -0400 (Wed, 15 Oct 2025) EllapsedTime: 10.1 seconds RetCode: 0 Status: OK PackageFile: timescape_1.33.0.tar.gz PackageFileSize: 672.5 KiB