Package: timescape Version: 1.33.0 Command: /Library/Frameworks/R.framework/Resources/bin/R CMD INSTALL timescape StartedAt: 2025-10-17 15:05:04 -0400 (Fri, 17 Oct 2025) EndedAt: 2025-10-17 15:05:09 -0400 (Fri, 17 Oct 2025) EllapsedTime: 5.2 seconds RetCode: 0 Status: OK