Package: timescape Version: 1.33.0 Command: /Library/Frameworks/R.framework/Resources/bin/R CMD check --install=check:timescape.install-out.txt --library=/Library/Frameworks/R.framework/Resources/library --no-vignettes --timings timescape_1.33.0.tar.gz StartedAt: 2025-10-15 22:15:30 -0400 (Wed, 15 Oct 2025) EndedAt: 2025-10-15 22:15:41 -0400 (Wed, 15 Oct 2025) EllapsedTime: 10.1 seconds RetCode: 0 Status: WARNINGS CheckDir: timescape.Rcheck Warnings: 1