Package: tigre Version: 1.63.0 Command: /home/biocbuild/R/R/bin/R CMD INSTALL tigre StartedAt: 2025-10-16 21:41:32 -0000 (Thu, 16 Oct 2025) EndedAt: 2025-10-16 21:41:59 -0000 (Thu, 16 Oct 2025) EllapsedTime: 27.1 seconds RetCode: 0 Status: OK