Package: tigre Version: 1.63.0 Command: /home/biocbuild/R/R/bin/R CMD build --keep-empty-dirs --no-resave-data tigre StartedAt: 2025-10-17 05:13:19 -0000 (Fri, 17 Oct 2025) EndedAt: 2025-10-17 05:16:52 -0000 (Fri, 17 Oct 2025) EllapsedTime: 213.1 seconds RetCode: 0 Status: OK PackageFile: tigre_1.63.0.tar.gz PackageFileSize: 309.5 KiB