Package: tigre Version: 1.63.0 Command: F:\biocbuild\bbs-3.22-bioc\R\bin\R.exe CMD check --no-multiarch --install=check:tigre.install-out.txt --library=F:\biocbuild\bbs-3.22-bioc\R\library --no-vignettes --timings tigre_1.63.0.tar.gz StartedAt: 2025-08-15 08:47:53 -0400 (Fri, 15 Aug 2025) EndedAt: 2025-08-15 08:50:41 -0400 (Fri, 15 Aug 2025) EllapsedTime: 168.2 seconds RetCode: 0 Status: OK CheckDir: tigre.Rcheck Warnings: 0