Package: tigre Version: 1.63.0 Command: rm -rf tigre.buildbin-libdir && mkdir tigre.buildbin-libdir && F:\biocbuild\bbs-3.22-bioc\R\bin\R.exe CMD INSTALL --build --library=tigre.buildbin-libdir tigre_1.63.0.tar.gz StartedAt: 2025-08-15 11:29:53 -0400 (Fri, 15 Aug 2025) EndedAt: 2025-08-15 11:30:54 -0400 (Fri, 15 Aug 2025) EllapsedTime: 61.3 seconds RetCode: 0 Status: OK PackageFile: tigre_1.63.0.zip PackageFileSize: 988 KiB