Package: tigre Version: 1.63.0 Command: /home/biocbuild/bbs-3.22-bioc/R/bin/R CMD check --install=check:tigre.install-out.txt --library=/home/biocbuild/bbs-3.22-bioc/R/site-library --timings tigre_1.63.0.tar.gz StartedAt: 2025-10-22 05:46:22 -0400 (Wed, 22 Oct 2025) EndedAt: 2025-10-22 05:51:23 -0400 (Wed, 22 Oct 2025) EllapsedTime: 301.3 seconds RetCode: 0 Status: OK CheckDir: tigre.Rcheck Warnings: 0