Package: tigre Version: 1.63.0 Command: /Library/Frameworks/R.framework/Resources/bin/R CMD INSTALL tigre StartedAt: 2025-10-24 15:34:18 -0400 (Fri, 24 Oct 2025) EndedAt: 2025-10-24 15:34:48 -0400 (Fri, 24 Oct 2025) EllapsedTime: 30.0 seconds RetCode: 0 Status: OK