Package: tigre Version: 1.64.0 Command: rm -rf tigre.buildbin-libdir && mkdir tigre.buildbin-libdir && /Users/biocbuild/BBS/utils/build-universal.sh tigre_1.64.0.tar.gz /Library/Frameworks/R.framework/Resources/bin/R tigre.buildbin-libdir StartedAt: 2025-10-30 23:20:11 -0400 (Thu, 30 Oct 2025) EndedAt: 2025-10-30 23:20:20 -0400 (Thu, 30 Oct 2025) EllapsedTime: 9.1 seconds RetCode: 0 Status: OK PackageFile: tigre_1.64.0.tgz PackageFileSize: 978.5 KiB