Package: tidytof Version: 1.3.0 Command: /home/biocbuild/R/R/bin/R CMD check --install=check:tidytof.install-out.txt --library=/home/biocbuild/R/R/site-library --no-vignettes --timings tidytof_1.3.0.tar.gz StartedAt: 2025-10-17 14:29:09 -0000 (Fri, 17 Oct 2025) EndedAt: 2025-10-17 14:38:34 -0000 (Fri, 17 Oct 2025) EllapsedTime: 564.9 seconds RetCode: 1 Status: ERROR CheckDir: tidytof.Rcheck Warnings: NA