Package: tidytof Version: 1.3.0 Command: /Library/Frameworks/R.framework/Resources/bin/R CMD INSTALL tidytof StartedAt: 2025-10-19 15:17:17 -0400 (Sun, 19 Oct 2025) EndedAt: 2025-10-19 15:17:58 -0400 (Sun, 19 Oct 2025) EllapsedTime: 41.6 seconds RetCode: 0 Status: OK