Package: tidytof Version: 1.3.0 Command: /Library/Frameworks/R.framework/Resources/bin/R CMD build --keep-empty-dirs --no-resave-data tidytof StartedAt: 2025-10-19 19:51:24 -0400 (Sun, 19 Oct 2025) EndedAt: 2025-10-19 19:57:21 -0400 (Sun, 19 Oct 2025) EllapsedTime: 357.0 seconds RetCode: 0 Status: OK PackageFile: tidytof_1.3.0.tar.gz PackageFileSize: 2.687 MiB