Package: tidyomics Version: 1.5.0 Command: /home/biocbuild/R/R/bin/R CMD INSTALL tidyomics StartedAt: 2025-10-16 21:52:40 -0000 (Thu, 16 Oct 2025) EndedAt: 2025-10-16 21:53:26 -0000 (Thu, 16 Oct 2025) EllapsedTime: 46.3 seconds RetCode: 0 Status: OK