Package: tidyomics Version: 1.5.0 Command: /home/biocbuild/R/R/bin/R CMD build --keep-empty-dirs --no-resave-data tidyomics StartedAt: 2025-10-17 05:12:16 -0000 (Fri, 17 Oct 2025) EndedAt: 2025-10-17 05:13:05 -0000 (Fri, 17 Oct 2025) EllapsedTime: 49.0 seconds RetCode: 0 Status: OK PackageFile: tidyomics_1.5.0.tar.gz PackageFileSize: 55.99 KiB