Package: tidyomics Version: 1.5.0 Command: /Library/Frameworks/R.framework/Resources/bin/R CMD check --install=check:tidyomics.install-out.txt --library=/Library/Frameworks/R.framework/Resources/library --no-vignettes --timings tidyomics_1.5.0.tar.gz StartedAt: 2025-10-20 02:16:07 -0400 (Mon, 20 Oct 2025) EndedAt: 2025-10-20 02:20:17 -0400 (Mon, 20 Oct 2025) EllapsedTime: 250.0 seconds RetCode: 0 Status: WARNINGS CheckDir: tidyomics.Rcheck Warnings: 1