Package: tidyCoverage Version: 1.6.0 Command: /Library/Frameworks/R.framework/Resources/bin/R CMD INSTALL tidyCoverage StartedAt: 2025-11-10 15:16:23 -0500 (Mon, 10 Nov 2025) EndedAt: 2025-11-10 15:16:37 -0500 (Mon, 10 Nov 2025) EllapsedTime: 14.1 seconds RetCode: 0 Status: OK