Package: tidyCoverage Version: 1.6.0 Command: /Library/Frameworks/R.framework/Resources/bin/R CMD build --keep-empty-dirs --no-resave-data tidyCoverage StartedAt: 2025-11-10 17:59:42 -0500 (Mon, 10 Nov 2025) EndedAt: 2025-11-10 18:01:01 -0500 (Mon, 10 Nov 2025) EllapsedTime: 78.9 seconds RetCode: 0 Status: OK PackageFile: tidyCoverage_1.6.0.tar.gz PackageFileSize: 3.899 MiB