Package: terraTCGAdata Version: 1.14.0 Command: /home/biocbuild/bbs-3.22-bioc/R/bin/R CMD INSTALL terraTCGAdata StartedAt: 2025-11-17 17:55:47 -0500 (Mon, 17 Nov 2025) EndedAt: 2025-11-17 17:56:13 -0500 (Mon, 17 Nov 2025) EllapsedTime: 25.5 seconds RetCode: 0 Status: OK