Package: terraTCGAdata Version: 1.14.0 Command: /Library/Frameworks/R.framework/Resources/bin/R CMD build --keep-empty-dirs --no-resave-data terraTCGAdata StartedAt: 2025-11-18 02:52:35 -0500 (Tue, 18 Nov 2025) EndedAt: 2025-11-18 02:53:51 -0500 (Tue, 18 Nov 2025) EllapsedTime: 76.3 seconds RetCode: 0 Status: OK PackageFile: terraTCGAdata_1.14.0.tar.gz PackageFileSize: 234.2 KiB