Package: ternarynet Version: 1.54.0 Command: /Library/Frameworks/R.framework/Resources/bin/R CMD INSTALL ternarynet StartedAt: 2025-11-17 16:58:56 -0500 (Mon, 17 Nov 2025) EndedAt: 2025-11-17 16:59:00 -0500 (Mon, 17 Nov 2025) EllapsedTime: 4.3 seconds RetCode: 0 Status: OK