Package: ternarynet Version: 1.54.0 Command: /Library/Frameworks/R.framework/Resources/bin/R CMD check --install=check:ternarynet.install-out.txt --library=/Library/Frameworks/R.framework/Resources/library --no-vignettes --timings ternarynet_1.54.0.tar.gz StartedAt: 2025-11-18 14:07:36 -0500 (Tue, 18 Nov 2025) EndedAt: 2025-11-18 14:08:06 -0500 (Tue, 18 Nov 2025) EllapsedTime: 30.2 seconds RetCode: 0 Status: OK CheckDir: ternarynet.Rcheck Warnings: 0