Package: ternarynet Version: 1.54.0 Command: /Library/Frameworks/R.framework/Resources/bin/R CMD build --keep-empty-dirs --no-resave-data ternarynet StartedAt: 2025-11-18 01:46:09 -0500 (Tue, 18 Nov 2025) EndedAt: 2025-11-18 01:46:17 -0500 (Tue, 18 Nov 2025) EllapsedTime: 8.1 seconds RetCode: 0 Status: OK PackageFile: ternarynet_1.54.0.tar.gz PackageFileSize: 268.3 KiB