Package: ternarynet Version: 1.54.0 Command: rm -rf ternarynet.buildbin-libdir && mkdir ternarynet.buildbin-libdir && /Users/biocbuild/BBS/utils/build-universal.sh ternarynet_1.54.0.tar.gz /Library/Frameworks/R.framework/Resources/bin/R ternarynet.buildbin-libdir StartedAt: 2025-11-18 16:32:35 -0500 (Tue, 18 Nov 2025) EndedAt: 2025-11-18 16:32:41 -0500 (Tue, 18 Nov 2025) EllapsedTime: 6.1 seconds RetCode: 0 Status: OK PackageFile: ternarynet_1.54.0.tgz PackageFileSize: 565.5 KiB