Package: tenXplore Version: 1.32.0 Command: /home/biocbuild/R/R/bin/R CMD check --install=check:tenXplore.install-out.txt --library=/home/biocbuild/R/R/site-library --no-vignettes --timings tenXplore_1.32.0.tar.gz StartedAt: 2025-11-18 15:55:43 -0000 (Tue, 18 Nov 2025) EndedAt: 2025-11-18 16:01:37 -0000 (Tue, 18 Nov 2025) EllapsedTime: 354.4 seconds RetCode: 0 Status: OK CheckDir: tenXplore.Rcheck Warnings: 0