Package: tenXplore Version: 1.32.0 Command: /home/biocbuild/R/R/bin/R CMD build --keep-empty-dirs --no-resave-data tenXplore StartedAt: 2025-11-21 06:27:17 -0000 (Fri, 21 Nov 2025) EndedAt: 2025-11-21 06:28:17 -0000 (Fri, 21 Nov 2025) EllapsedTime: 60.0 seconds RetCode: 0 Status: OK PackageFile: tenXplore_1.32.0.tar.gz PackageFileSize: 2.457 MiB