Package: target Version: 1.23.1 Command: /home/biocbuild/R/R/bin/R CMD INSTALL target StartedAt: 2025-10-20 21:18:54 -0000 (Mon, 20 Oct 2025) EndedAt: 2025-10-20 21:19:07 -0000 (Mon, 20 Oct 2025) EllapsedTime: 13.4 seconds RetCode: 0 Status: OK