Package: target Version: 1.23.1 Command: /home/biocbuild/bbs-3.22-bioc/R/bin/R CMD INSTALL target StartedAt: 2025-10-20 15:52:40 -0400 (Mon, 20 Oct 2025) EndedAt: 2025-10-20 15:52:51 -0400 (Mon, 20 Oct 2025) EllapsedTime: 10.3 seconds RetCode: 0 Status: OK