Package: target Version: 1.23.1 Command: /home/biocbuild/bbs-3.22-bioc/R/bin/R CMD check --install=check:target.install-out.txt --library=/home/biocbuild/bbs-3.22-bioc/R/site-library --timings target_1.23.1.tar.gz StartedAt: 2025-10-21 05:28:04 -0400 (Tue, 21 Oct 2025) EndedAt: 2025-10-21 05:29:54 -0400 (Tue, 21 Oct 2025) EllapsedTime: 110.2 seconds RetCode: 0 Status: OK CheckDir: target.Rcheck Warnings: 0