Package: target Version: 1.23.1 Command: /home/biocbuild/bbs-3.22-bioc/R/bin/R CMD build --keep-empty-dirs --no-resave-data --md5 target StartedAt: 2025-10-20 20:22:55 -0400 (Mon, 20 Oct 2025) EndedAt: 2025-10-20 20:23:38 -0400 (Mon, 20 Oct 2025) EllapsedTime: 43.1 seconds RetCode: 0 Status: OK PackageFile: target_1.23.1.tar.gz PackageFileSize: 3.101 MiB