Package: target Version: 1.23.1 Command: /Library/Frameworks/R.framework/Resources/bin/R CMD INSTALL target StartedAt: 2025-10-20 15:46:27 -0400 (Mon, 20 Oct 2025) EndedAt: 2025-10-20 15:46:43 -0400 (Mon, 20 Oct 2025) EllapsedTime: 15.8 seconds RetCode: 0 Status: OK