Package: target Version: 1.23.1 Command: rm -rf target.buildbin-libdir && mkdir target.buildbin-libdir && /Users/biocbuild/BBS/utils/build-universal.sh target_1.23.1.tar.gz /Library/Frameworks/R.framework/Resources/bin/R target.buildbin-libdir StartedAt: 2025-10-20 03:37:45 -0400 (Mon, 20 Oct 2025) EndedAt: 2025-10-20 03:38:03 -0400 (Mon, 20 Oct 2025) EllapsedTime: 18.6 seconds RetCode: 0 Status: OK PackageFile: target_1.23.1.tgz PackageFileSize: 3.304 MiB