Package: target Version: 1.23.1 Command: /Library/Frameworks/R.framework/Resources/bin/R CMD check --install=check:target.install-out.txt --library=/Library/Frameworks/R.framework/Resources/library --no-vignettes --timings target_1.23.1.tar.gz StartedAt: 2025-10-19 22:23:23 -0400 (Sun, 19 Oct 2025) EndedAt: 2025-10-19 22:23:57 -0400 (Sun, 19 Oct 2025) EllapsedTime: 33.4 seconds RetCode: 0 Status: OK CheckDir: target.Rcheck Warnings: 0