Package: target Version: 1.23.1 Command: rm -rf target.buildbin-libdir && mkdir target.buildbin-libdir && /Users/biocbuild/BBS/utils/build-universal.sh target_1.23.1.tar.gz /Library/Frameworks/R.framework/Resources/bin/R target.buildbin-libdir StartedAt: 2025-10-19 23:18:38 -0400 (Sun, 19 Oct 2025) EndedAt: 2025-10-19 23:18:43 -0400 (Sun, 19 Oct 2025) EllapsedTime: 5.3 seconds RetCode: 0 Status: OK PackageFile: target_1.23.1.tgz PackageFileSize: 3.305 MiB