Package: tanggle Version: 1.15.2 Command: rm -rf tanggle.buildbin-libdir && mkdir tanggle.buildbin-libdir && F:\biocbuild\bbs-3.22-bioc\R\bin\R.exe CMD INSTALL --build --library=tanggle.buildbin-libdir tanggle_1.15.2.tar.gz StartedAt: 2025-08-15 11:27:59 -0400 (Fri, 15 Aug 2025) EndedAt: 2025-08-15 11:28:17 -0400 (Fri, 15 Aug 2025) EllapsedTime: 18.3 seconds RetCode: 0 Status: OK PackageFile: tanggle_1.15.2.zip PackageFileSize: 1.182 MiB