Package: tanggle Version: 1.15.2 Command: /Library/Frameworks/R.framework/Resources/bin/R CMD INSTALL tanggle StartedAt: 2025-10-01 15:13:02 -0400 (Wed, 01 Oct 2025) EndedAt: 2025-10-01 15:13:40 -0400 (Wed, 01 Oct 2025) EllapsedTime: 38.5 seconds RetCode: 0 Status: OK