Package: tanggle Version: 1.15.2 Command: /Library/Frameworks/R.framework/Resources/bin/R CMD build --keep-empty-dirs --no-resave-data tanggle StartedAt: 2025-09-30 19:04:50 -0400 (Tue, 30 Sep 2025) EndedAt: 2025-09-30 19:05:22 -0400 (Tue, 30 Sep 2025) EllapsedTime: 31.9 seconds RetCode: 0 Status: OK PackageFile: tanggle_1.15.2.tar.gz PackageFileSize: 1.919 MiB