Package: tadar Version: 1.7.1 Command: F:\biocbuild\bbs-3.22-bioc\R\bin\R.exe CMD check --no-multiarch --install=check:tadar.install-out.txt --library=F:\biocbuild\bbs-3.22-bioc\R\library --no-vignettes --timings tadar_1.7.1.tar.gz StartedAt: 2025-08-15 08:39:17 -0400 (Fri, 15 Aug 2025) EndedAt: 2025-08-15 08:48:54 -0400 (Fri, 15 Aug 2025) EllapsedTime: 577.4 seconds RetCode: 0 Status: OK CheckDir: tadar.Rcheck Warnings: 0