Package: tRanslatome Version: 1.47.0 Command: F:\biocbuild\bbs-3.22-bioc\R\bin\R.exe CMD INSTALL tRanslatome StartedAt: 2025-08-14 16:34:18 -0400 (Thu, 14 Aug 2025) EndedAt: 2025-08-14 16:35:42 -0400 (Thu, 14 Aug 2025) EllapsedTime: 84.0 seconds RetCode: 0 Status: OK