Package: tRanslatome Version: 1.47.0 Command: /home/biocbuild/bbs-3.22-bioc/R/bin/R CMD INSTALL tRanslatome StartedAt: 2025-10-09 15:43:35 -0400 (Thu, 09 Oct 2025) EndedAt: 2025-10-09 15:44:18 -0400 (Thu, 09 Oct 2025) EllapsedTime: 42.6 seconds RetCode: 0 Status: OK