Package: tRanslatome Version: 1.47.0 Command: /Library/Frameworks/R.framework/Resources/bin/R CMD check --install=check:tRanslatome.install-out.txt --library=/Library/Frameworks/R.framework/Resources/library --no-vignettes --timings tRanslatome_1.47.0.tar.gz StartedAt: 2025-10-09 22:13:16 -0400 (Thu, 09 Oct 2025) EndedAt: 2025-10-09 22:15:16 -0400 (Thu, 09 Oct 2025) EllapsedTime: 119.4 seconds RetCode: 0 Status: OK CheckDir: tRanslatome.Rcheck Warnings: 0